BEGIN:VCALENDAR
VERSION:2.0
PRODID:-//HIT HAPPENS song bingo - ECPv6.15.20//NONSGML v1.0//EN
CALSCALE:GREGORIAN
METHOD:PUBLISH
X-ORIGINAL-URL:https://hithappens-songbingo.de
X-WR-CALDESC:Veranstaltungen für HIT HAPPENS song bingo
REFRESH-INTERVAL;VALUE=DURATION:PT1H
X-Robots-Tag:noindex
X-PUBLISHED-TTL:PT1H
BEGIN:VTIMEZONE
TZID:UTC
BEGIN:STANDARD
TZOFFSETFROM:+0000
TZOFFSETTO:+0000
TZNAME:UTC
DTSTART:20250101T000000
END:STANDARD
END:VTIMEZONE
BEGIN:VEVENT
DTSTART;TZID=UTC:20260114T190000
DTEND;TZID=UTC:20260114T213000
DTSTAMP:20260425T103119
CREATED:20260106T142119Z
LAST-MODIFIED:20260106T142148Z
UID:105-1768417200-1768426200@hithappens-songbingo.de
SUMMARY:song bingo | leipzig drei der münze
DESCRIPTION:HIT HAPPENS – song bingo in leipzig\nwenn dein musikgeschmack laut bingo schreit\, bist du hier genau richtig.HIT HAPPENS song bingo verbindet retro-vibes\, partyfeeling und rätselspaß – live in der bar drei der münze in leipzig. \nam 14. januar 2026 erwartet dich ein interaktives musik event\, bei dem zuhören allein nicht reicht. du hörst kurze songclips\, kreuzt die richtigen titel auf deiner bingokarte an und sobald du eine reihe voll hast\, rufst du laut BINGO und räumst preise ab. \negal ob du oldies liebst\, die hits aus 2025 gefeiert hast oder zeitlose klassiker erkennst. dieses song bingo event in leipzig bringt verschiedene musikgeschmäcker zusammen und sorgt für echte community momente. \n3 runden\, 3 playlists\n🎶 all time favorites🎶 2025 recap🎶 old fashioned classics \neventdetails\n📅 datum: 14. januar 2026⏰ zeit: 19:00-21:30 uhr📍 ort: drei der münze\, münzgasse 28 in leipzig💸 eintritt: 4 euro📩 reservierung: per instagram nachricht an @dreidermuenze \nHIT HAPPENS song bingo ist perfekt für alle\, die ein besonderes bar event in leipzig\, einen partyabend mit freund:innen oder ein lockeres musikspiel in der leipziger event- und barszene suchen. \nperfekt für:\n🎉 musikfans🪩 partyabend mit freund:innen🥳 geburtstage & kleine feiern🎶 alle\, die leipzigs event- und barszene lieben \nmach dich bereit für eine show\, bei der musik\, spiel und community aufeinandertreffen.hier passiert nicht nur musik. hit happens. \np.s. während des events werden foto- und videoaufnahmen gemacht\, die ggf. für unsere social media kanäle genutzt werden.
URL:https://hithappens-songbingo.de/event/song-bingo-leipzig-drei-der-muenze/
LOCATION:drei der münze\, münzgasse 28\, leipzig\, sachsen\, 04107\, Germany
ATTACH;FMTTYPE=image/jpeg:https://hithappens-songbingo.de/wp-content/uploads/2026/01/SONG-BINGO-Desktop-Wallpaper.jpg
END:VEVENT
END:VCALENDAR