BEGIN:VCALENDAR
VERSION:2.0
PRODID:-//HIT HAPPENS song bingo - ECPv6.15.20//NONSGML v1.0//EN
CALSCALE:GREGORIAN
METHOD:PUBLISH
X-ORIGINAL-URL:https://hithappens-songbingo.de
X-WR-CALDESC:Veranstaltungen für HIT HAPPENS song bingo
REFRESH-INTERVAL;VALUE=DURATION:PT1H
X-Robots-Tag:noindex
X-PUBLISHED-TTL:PT1H
BEGIN:VTIMEZONE
TZID:UTC
BEGIN:STANDARD
TZOFFSETFROM:+0000
TZOFFSETTO:+0000
TZNAME:UTC
DTSTART:20250101T000000
END:STANDARD
END:VTIMEZONE
BEGIN:VEVENT
DTSTART;TZID=UTC:20260304T190000
DTEND;TZID=UTC:20260304T213000
DTSTAMP:20260423T000527
CREATED:20260211T151352Z
LAST-MODIFIED:20260219T134454Z
UID:276-1772650800-1772659800@hithappens-songbingo.de
SUMMARY:song bingo leipzig | 90s und female empowerment
DESCRIPTION:HIT HAPPENS – song bingo \nmanche songs vergisst man nie. sie laufen – und plötzlich ist man wieder 16\, singt in eine haarbürste oder fühlt sich unaufhaltbar stark. \nam 04.03.26 feiern wir beim nächsten hit happens song bingo genau dieses gefühl:\n90s vibe trifft auf female empowerment \nes wird laut\, nostalgisch und selbstbewusst. girl power hymnen\, 90er klassiker und songs\, die uns daran erinnern\, wie viel energie\, mut und attitude in uns steckt. \nwie immer heißt es: mitsingen\, mitfiebern\, felder abhaken – und vielleicht mit einer einzigartigen wundertüte nach hause gehen. \neventdetails\n📅 datum: 04. märz 2026⏰ zeit: 19:00-21:30 uhr📍 ort: drei der münze\, münzgasse 28 in leipzig💸 beitrag: 4 euro📩 reservierung: per mail oder instagram nachricht an @hithappens_songbingo \ndiesmal ausnahmsweise schon in der ersten woche des monats\, weil es für uns danach in den urlaub geht. aber keine sorge\, wir bringen euch vorher noch einmal ordentlich in stimmung 😉 \nhit happens. girl power happens. \np.s. während des events werden foto- und videoaufnahmen gemacht\, die ggf. für unsere social media kanäle genutzt werden.
URL:https://hithappens-songbingo.de/event/song-bingo-leipzig-female-empowerment-90s/
LOCATION:drei der münze\, münzgasse 28\, leipzig\, sachsen\, 04107\, Germany
ATTACH;FMTTYPE=image/jpeg:https://hithappens-songbingo.de/wp-content/uploads/2026/02/SONG-BINGO-Desktop-Wallpaper-4.jpg
END:VEVENT
END:VCALENDAR